BEGIN:VCALENDAR
VERSION:2.0
PRODID:-//ChamberMaster//Event Calendar 2.0//EN
METHOD:PUBLISH
X-PUBLISHED-TTL:P3D
REFRESH-INTERVAL:P3D
CALSCALE:GREGORIAN
BEGIN:VEVENT
DTSTART:20260324T153000Z
DTEND:20260324T163000Z
X-MICROSOFT-CDO-ALLDAYEVENT:FALSE
SUMMARY:Freisenbruch: Succession Planning
DESCRIPTION:The Bermuda Chamber of Commerce is excited to partner once again with Freisenbruch to bring you another engaging and informative Lunch & Learn session - this time focused on Succession Planning and preparing for the future.\n\n \n\nSuccession planning is more than a financial exercise - it's about protecting the people we care about\, safeguarding our income\, and building a lasting legacy. Whether you're just beginning to think about long-term planning or looking to strengthen your current strategy\, this session will provide valuable insights to help guide your next steps.\n\n \n\nWho Should Attend?\n\nThis session is ideal for individuals of all ages who want to learn more about:\n\n\n	Retirement and long-term financial planning\n	Preparing for unexpected life events\n	Protecting family and assets\n	Structuring a sustainable legacy\n\nWhy Join Us?\n\n\n	Gain practical steps you can apply immediately\n	Ask questions and engage in real-time discussion\n	Enjoy a valuable learning experience during the lunch hour
X-ALT-DESC;FMTTYPE=text/html:<div style="color: rgb(0\, 0\, 0)\; font-family: &quot\;Segoe UI&quot\;\; font-size: 14px\; line-height: 20px\;">\n<div style="color: rgb(0\, 0\, 0)\; font-family: &quot\;Segoe UI&quot\;\; font-size: 14px\; line-height: 20px\;">\n<h2><span style="font-size:14px\;">The Bermuda Chamber of Commerce is excited to partner once again with&nbsp\;<strong>Freisenbruch</strong>&nbsp\;to bring you another engaging and informative&nbsp\;<strong>Lunch &amp\; Learn</strong>&nbsp\;session - this time focused on S<em>uccession Planning</em>&nbsp\;and preparing for the future.</span><br />\n&nbsp\;</h2>\n\n<h2><span style="font-size:14px\;">Succession planning is more than a financial exercise - it&#39\;s about&nbsp\;<strong>protecting the people we care about\, safeguarding our income\, and building a lasting legacy</strong>. Whether you&rsquo\;re just beginning to think about long-term planning or looking to strengthen your current strategy\, this session will provide valuable insights to help guide your next steps.</span><br />\n&nbsp\;</h2>\n\n<h2><strong>Who Should Attend?</strong><br />\n<span style="font-size:14px\;">This session is ideal for&nbsp\;<strong>individuals of all ages</strong>&nbsp\;who want to learn more about:</span></h2>\n\n<ul>\n	<li><span style="font-size:14px\;">Retirement and long-term financial planning</span></li>\n	<li><span style="font-size:14px\;">Preparing for unexpected life events</span></li>\n	<li><span style="font-size:14px\;">Protecting family and assets</span></li>\n	<li><span style="font-size:14px\;">Structuring a sustainable legacy</span></li>\n</ul>\n<strong>Why Join Us?</strong>\n\n<ul>\n	<li><span style="font-size:14px\;">Gain practical steps you can apply immediately</span></li>\n	<li><span style="font-size:14px\;">Ask questions and engage in real-time discussion</span></li>\n	<li><span style="font-size:14px\;">Enjoy a valuable learning experience during the lunch hour</span></li>\n</ul>\n</div>\n</div>\n
LOCATION:Bermuda Chamber of Commerce 1 Point Pleasant Road\, Hamilton\, Bermuda HM 11
UID:e.3397.2246
SEQUENCE:3
DTSTAMP:20260421T194715Z
URL:https://bermudachamber.bm/events/details/freisenbruch-succession-planning-2246
END:VEVENT

END:VCALENDAR
